Workbook
Name Materialu_cenas: #REF!

Sheet 1_Koptāme_Uzņemšana
B1: Būvniecības koptāme JUMTA ATJAUNOŠANAI
B3: SIA"Bauskas slimnīca'' Stacionāra ēka
B4: Dārza iela 7, Bauska, Bauskas novads
B5: (Darba veids vai konstruktīvā elementa nosaukums)
A8: Objekta nosaukums: | B8: Slimnīca
A9: Būves nosaukums: | B9: =B3 -> SIA"Bauskas slimnīca'' Stacionāra ēka
A10: Būves adrese: | B10: Dārza iela 7, Bauska, Bauskas novads
A11: Pasūtītājs: | B11: SIA"Bauskas slimnīca''
A12: Identifikācijas Nr.:
A13: Pretendents:
A15: Tāme sastādīta 2026.gada tirgus cenās | C15: 2026.gada …..............
A17: N.p.k. | B17: Objekta nosaukums | C17: Objekta izmaksas ( eiro )
A21: 1 | B21: 2 | C21: 3
A22: 1 | B22: Vispārceltnieciskie darbi | C22: ='1-1 Kopsavilkums'!D32 -> 0
B24: Kopā: | C24: =ROUND(SUM(C22:C22),2) -> 0
B25: Pievienotās vērtības nodoklis ( 21 % ) | C25: =ROUND(C24*21%,2) -> 0
B26: Pavisam būvniecības izmaksas: | C26: =ROUND(SUM(C24:C25),2) -> 0
A29: Sastādīja:
B30: (paraksts un atšifrējums)
A33: Pārbaudīja:
B34: (paraksts un atšifrējums)

Sheet 1-1 Kopsavilkums
A2: Kopsavilkuma aprēķini pa darbu vai konstruktīvo elementu veidiem Nr.1-1
A6: ='1_Koptāme_Uzņemšana'!B22 -> Vispārceltnieciskie darbi
A7: (Darba veids vai konstruktīvā elementa nosaukums)
A9: Objekta nosaukums: | C9: ='1_Koptāme_Uzņemšana'!B8 -> Slimnīca
A10: Būves nosaukums: | C10: ='1_Koptāme_Uzņemšana'!B9 -> SIA"Bauskas slimnīca'' Stacionāra ēka
A11: Būves adrese: | C11: ='1_Koptāme_Uzņemšana'!B10 -> Dārza iela 7, Bauska, Bauskas novads
A12: Pasūtītājs: | C12: ='1_Koptāme_Uzņemšana'!B11 -> SIA"Bauskas slimnīca''
A13: Identifikācijas Nr.:
A14: Pretendents:
B16: Par kopējo summu, eiro | D16: =D32 -> 0
B17: Kopējā darbietilpība, c/h | D17: =H27 -> 0
A19: Tāme sastādīta 2026.gada tirgus cenās | G19: ='1_Koptāme_Uzņemšana'!C15 -> 2026.gada …..............
A21: Nr.p.k. | B21: Kods tāmes Nr. | C21: Būvdarbu veids vai konstruktīvā elementa nosaukums | D21: Tāmes izmaksas (eiro) | E21: Tai skaitā | H21: Darbaietilpība (c/h)
E22: darba alga (eiro) | F22: materiāli (eiro) | G22: mehānismi (eiro)
A24: 1 | B24: 2 | C24: 3 | D24: 4 | E24: 5 | F24: 6 | G24: 7 | H24: 8
A25: 1 | B25: Nr. 1-1 | C25: ='1_Koptāme_Uzņemšana'!B22 -> Vispārceltnieciskie darbi | D25: ='1-1 Celtn'!P63 -> 0 | E25: ='1-1 Celtn'!M63 -> 0 | F25: ='1-1 Celtn'!N63 -> 0 | G25: ='1-1 Celtn'!O63 -> 0 | H25: ='1-1 Celtn'!L63 -> 0
A27: Kopā: | D27: =ROUND((SUM(D25:D25)),2) -> 0 | E27: =ROUND((SUM(E25:E25)),2) -> 0 | F27: =ROUND((SUM(F25:F25)),2) -> 0 | G27: =ROUND((SUM(G25:G25)),2) -> 0 | H27: =ROUND((SUM(H25:H25)),2) -> 0
A28: Virsizdevumi, t.sk.DOP izmaksas, saskaņā ar LBN 501-17, p-tu 3.93 ( papildu izmaksas, kuras saistītas ar būvlaukuma iekārtošanu, uzturēšanu, būvdarbu organizēšanu, vadīšanu, darba aizsardzību un apdrošināšanu, citas ar būvdarbu realizāciju saistītas izmaksas) ( ....%) | D28: =ROUND(D27*0.03,2) -> 0
A29: t.sk. darba aizsardzība | D29: =ROUND(D28*0.05,2) -> 0
A30: Peļņa (….%) | D30: =ROUND(D27*0.03,2) -> 0
A32: Pavisam KOPĀ: | D32: =ROUND(D27+D28+D30,2) -> 0
A35: Sastādīja:
C36: (paraksts un atšifrējums)
A38: Pārbaudīja:
C39: (paraksts un atšifrējums)

Sheet 1-1 Celtn
A1: Lokālā tāme Nr. 1-1
A2: ='1-1 Kopsavilkums'!C25 -> Vispārceltnieciskie darbi
A3: (Darba veids vai konstruktīvā elementa nosaukums)
A5: Objekta nosaukums: | C5: ='1-1 Kopsavilkums'!C9 -> Slimnīca
A6: Būves nosaukums: | C6: ='1-1 Kopsavilkums'!C10 -> SIA"Bauskas slimnīca'' Stacionāra ēka
A7: Būves adrese: | C7: ='1-1 Kopsavilkums'!C11 -> Dārza iela 7, Bauska, Bauskas novads
A8: Pasūtītājs: | C8: ='1-1 Kopsavilkums'!C12 -> SIA"Bauskas slimnīca''
A9: Identifikācijas Nr.:
A10: Pretendents: | C10: ='1-1 Kopsavilkums'!C14 -> 0
N12: Tāmes izmaksas:
A13: ='1-1 Kopsavilkums'!A19 -> Tāme sastādīta 2026.gada tirgus cenās | O13: 2026.gada…................
A15: Nr.p.k. | B15: Kods | C15: Darba, materiālu nosaukums | D15: Mērvienība | E15: Daudzums | F15: Vienības izmaksas | L15: Kopā uz visu apjomu
F16: Laika norma (c/h) | G16: Darba samaksas likme (Eur/h) | H16: Darbs (Eur) | I16: Materiāli (Eur) | J16: Mehānismi (Eur) | K16: Kopā (Eur) | L16: Darbietilpība (c/h) | M16: Darbs (Eur) | N16: Materiāli (Eur) | O16: Mehānismi (Eur) | P16: Summa (Eur)
A17: 1 | B17: 2 | C17: 3 | D17: 4 | E17: 5 | F17: 6 | G17: 7 | H17: 8 | I17: 9 | J17: 10 | K17: 11 | L17: 12 | M17: 13 | N17: 14 | O17: 15 | P17: 16
C19: I. Vispārējie celtniecības darbi
C20: DEMONTĀŽAS DARBI
A21: 1 | C21: Esošā jumta seguma demontāža | D21: m2 | E21: 3112
A22: 2 | C22: Lietus tekņu - notekcauruļu demontāža | D22: t/m | E22: 570
A23: 3 | C23: Skārda ieseguma demontāža | D23: t/m | E23: 840
A24: 4 | C24: Būvgružu savākšana/ nonešana, iekraušana autotransportā. | D24: m3 | E24: 90
A25: 5 | C25: Būvgružu nogādāšana uz izgāztuvi. Izgāztuves un autotransporta pakalpojumi. | D25: m3 | E25: 90
C26: JUMTS
A27: 1 | C27: Bojāto jumta konstrukciju nomaiņa (savilces, stati, spāres) (kokmateriāli, skavas, naglas, skrūves u.c. nepieciešamie palīgmateriāli) | D27: t/m | E27: 625
A28: 2 | C28: Esošā dēļu klāja remonts/ nomaiņa bojājuma vietās kokmateriāli, skavas, naglas, skrūves u.c. nepieciešamie palīgmateriāli - pieņēmums 1/3 daļa no dēļu klāja - precizējams būvdarbu laikā, atbilstoši reāli veiktajiem darbiem | D28: m2 | E28: 1000
A29: 3 | C29: Vertikālais latojums virs dēļu klāja pa spārēm (jumta klāja laukumā 3112 m2) - Kokmateriālu apjoms (latas 25x 50 mm) (kokmateriāli, skavas, naglas, skrūves u.c. nepieciešamie palīgmateriāli) | D29: m3 | E29: 5.5
A30: 4 | C30: Stiegrotas difūzijas membrāna (piemēram SYSTEMIT/ COVER Core STRONG, 200g/m2 vai ekvivalents/ analogs) (tajā skaitā ieklāšanas palīgmeteriāli, līmlene, skavas u.c.) | D30: m2 | E30: 3430
A31: 5 | C31: Šķērs latojums (jumta klāja laukumā 3112 m2) - Kokmateriālu apjoms (latas 50x 50 mm, solis 350mm) (kokmateriāli, skavas, naglas, skrūves u.c. nepieciešamie palīgmateriāli) | D31: m3 | E31: 27.5
A32: 6 | C32: Koka konstrukciju apstrāde ar antiseptiķi, konservācijai un ugunsdrošības nodrošināšanai (piemēram Bochemit Antiflash vai ekvivalents/ analogs) | D32: m3 | E32: 54.4
A33: 7 | C33: Bēniņos esošo koka nesošo konstrukciju pārklāšana ar ugunsdrošu krāsu (ugunsaizsardzības pakāpe R 30) ( piemēram PROMADUR vai ekvivalents/ analogs) | D33: kpl | E33: 1
A34: 8.1 | C34: Jumta seguma ieklāšana šobrīd ieklātais segums - BorgElegant 0,5mm RAL8017 Ieklājams līdzvērtīgs segums esošajam (ekvivalenst/ analogs) tonis piemeklējams atbilstoši RAL katalogam identisks vai identisks RAL 8017. (jumta materiāls, skrūves, naglas u.c. nepieciešamie palīgmateriāli) | D34: m2 | E34: 3570
A35: 8.2 | C35: Karnīze | D35: t/m | E35: 350
A36: 8.3 | C36: Atloks | D36: t/m | E36: 380
A37: 8.4 | C37: Satekne | D37: t/m | E37: 270
A38: 8.5 | C38: Kore | D38: t/m | E38: 330
... A47: 16 | C47: Lietus notekcauruļu ierīkošana (tajā skaitā visi nepieciešamie stiprinājuma materiāli u.c.) | D47: t/m | E47: 220
C48: Karnīze (Energoefektivitātes uzlabošanas Projekta risinājums)
A49: 70 | C49: Karnīzes siltināšana ar akmens vates loksnēm biezumā d=100mm | D49: m2 | E49: 443.95
A50: 71 | C50: Mitrumizturīgais saplāksnis 20mm uz koka karkasa 40x100mm solis 600mm | D50: m2 | E50: 180
A51: 72 | C51: Mitrumizturīgais saplāksnis 20mm | D51: m2 | E51: 180
A52: 73 | C52: koka brusas 40x100 mm | D52: m3 | E52: 1.3
A53: 74 | C53: stiprinājumi, profili, leņķi, dībeļi, skrūves, enkuri, u.c.palīgmateriāli | D53: kpl. | E53: 1
A54: 75 | C54: Hidroizolācijas ierīkošana karnīzei no bituma mastikas (tajā skaitā visi nepieciešamie stiprinājuma materiāli u.c.) | D54: m2 | E54: 409.8
A55: 76 | C55: Karnīzes skārda apdare ( B=500+440mm ), (tajā skaitā visi nepieciešamie stiprinājuma materiāli u.c.) | D55: m | E55: 341.5
C56: Dažādi darbi
A57: =#REF!+1 -> #REF! | C57: Pagaidu jumta nosegšana | D57: m2 | E57: 3112
C58: Norobežojošo konstrukciju, sienu ierīkošana, ailu aizdare, logu noklāšana ar plēvi u.c. būvdarbu zonai | D58: obkejts | E58: 1
A59: =A57+1 -> #REF! | C59: Telpu tīrīšana, sakārtošana un nodošana pēc būvdarbu pabeigšanas | D59: objekts | E59: 1
A60: =A59+1 -> #REF! | C60: Sastatņu īre, montāža un demontāža ( sastatņu horizontālā projekcija) | D60: objekts | E60: 1
C61: Uzmērījumi, iestrādāto materiālu dokumentācija, izpilddokumentācijas izstrāde | D61: objekts | E61: 1
A63: Tiešās izmaksas kopā, t. sk. darba devēja sociālais nodoklis (23,59%): | L63: =ROUND(SUM(L21:L60),2) -> 0 | M63: =ROUND(SUM(M21:M60),2) -> 0 | N63: =ROUND(SUM(N21:N60),2) -> 0 | O63: =ROUND(SUM(O21:O60),2) -> 0 | P63: =ROUND(SUM(P21:P60),2) -> 0
A67: Sastādīja:
C68: (paraksts un atšifrējums)
A69: Pārbaudīja:
C70: (paraksts un atšifrējums)
C72: Piezīmes:
C73: Visas atsauces uz materiālu un izstrādājumu izgatavotaj firmām liecina tikai par šo materiālu un izstrādājumu tehniskajiem parametriem un kvalitātes līmeni, to nomaiņa ir iespējama ar citiem tehniski un kvalitatīvi ekvivalentiem materiāliem un izstrādājumiem, iepriekš saskaņojot tos ar projekta autoriem un uzrādot atbilstības sertifikātus.
C74: Būvuzņēmējam jāievērtē tāmē minēto darbu veikšanai nepieciešamie materiāli un papildus darbi, kas nav minēti šajā sarakstā, bet bez kuriem nebūtu iespējama būvdarbu tehnoloģiski pareiza un spēkā esošiem normatīviem atbilstoša veikšana pilnā apmērā.
